BEGIN:VCALENDAR
VERSION:2.0
PRODID:-//Arkansas Criminal Justice Institute - ECPv6.15.20//NONSGML v1.0//EN
CALSCALE:GREGORIAN
METHOD:PUBLISH
X-WR-CALNAME:Arkansas Criminal Justice Institute
X-ORIGINAL-URL:https://www.cji.edu
X-WR-CALDESC:Events for Arkansas Criminal Justice Institute
REFRESH-INTERVAL;VALUE=DURATION:PT1H
X-Robots-Tag:noindex
X-PUBLISHED-TTL:PT1H
BEGIN:VTIMEZONE
TZID:America/Chicago
BEGIN:DAYLIGHT
TZOFFSETFROM:-0600
TZOFFSETTO:-0500
TZNAME:CDT
DTSTART:20200308T080000
END:DAYLIGHT
BEGIN:STANDARD
TZOFFSETFROM:-0500
TZOFFSETTO:-0600
TZNAME:CST
DTSTART:20201101T070000
END:STANDARD
BEGIN:DAYLIGHT
TZOFFSETFROM:-0600
TZOFFSETTO:-0500
TZNAME:CDT
DTSTART:20210314T080000
END:DAYLIGHT
BEGIN:STANDARD
TZOFFSETFROM:-0500
TZOFFSETTO:-0600
TZNAME:CST
DTSTART:20211107T070000
END:STANDARD
BEGIN:DAYLIGHT
TZOFFSETFROM:-0600
TZOFFSETTO:-0500
TZNAME:CDT
DTSTART:20220313T080000
END:DAYLIGHT
BEGIN:STANDARD
TZOFFSETFROM:-0500
TZOFFSETTO:-0600
TZNAME:CST
DTSTART:20221106T070000
END:STANDARD
END:VTIMEZONE
BEGIN:VEVENT
DTSTART;TZID=America/Chicago:20211015T080000
DTEND;TZID=America/Chicago:20211015T170000
DTSTAMP:20260420T072821
CREATED:20210924T214340Z
LAST-MODIFIED:20211014T142415Z
UID:8077-1634284800-1634317200@www.cji.edu
SUMMARY:Another Event: Cold Case Files
DESCRIPTION:This is another event. Mauris in risus nec ante bibendum gravida eget id tortor. Aliquam erat volutpat. Aliquam nec nunc at tortor hendrerit consectetur id ac massa. Vivamus sem neque\, vestibulum sed nisl nec\, luctus congue sapien. Nunc mattis nisl nec enim molestie\, eu suscipit lacus mattis. Cras ac blandit neque\, eget consequat urna. Suspendisse bibendum est arcu\, in auctor nulla facilisis id. Sed egestas tellus quis nulla commodo\, vitae vehicula eros semper. Nullam vulputate ipsum eu nulla scelerisque pretium. Nullam magna sapien\, vulputate id elit porttitor\, placerat laoreet eros. Donec in scelerisque purus. Morbi tincidunt quis orci eu pellentesque. \n 
URL:https://www.cji.edu/event/another-event-2/
LOCATION:MHP Team SI\, 2300 Cottondale Ln Suite 300\, Little Rock\, AR\, 72202
CATEGORIES:Training,class,Law Enforcement
ATTACH;FMTTYPE=image/jpeg:https://www.cji.edu/wp-content/uploads/2021/04/ColdCase.jpg
END:VEVENT
BEGIN:VEVENT
DTSTART;TZID=America/Chicago:20210913T080000
DTEND;TZID=America/Chicago:20210913T170000
DTSTAMP:20260420T072821
CREATED:20210924T211431Z
LAST-MODIFIED:20210924T211431Z
UID:8066-1631520000-1631552400@www.cji.edu
SUMMARY:CJI Past Event
DESCRIPTION:This event already happened
URL:https://www.cji.edu/event/cji-past-event/
LOCATION:AR
CATEGORIES:Training
END:VEVENT
END:VCALENDAR